BEGIN:VCALENDAR
VERSION:2.0
PRODID:-// - ECPv6.15.20//NONSGML v1.0//EN
CALSCALE:GREGORIAN
METHOD:PUBLISH
X-ORIGINAL-URL:https://teamnolimits.de
X-WR-CALDESC:Veranstaltungen für 
REFRESH-INTERVAL;VALUE=DURATION:PT1H
X-Robots-Tag:noindex
X-PUBLISHED-TTL:PT1H
BEGIN:VTIMEZONE
TZID:Europe/Berlin
BEGIN:DAYLIGHT
TZOFFSETFROM:+0100
TZOFFSETTO:+0200
TZNAME:CEST
DTSTART:20220327T010000
END:DAYLIGHT
BEGIN:STANDARD
TZOFFSETFROM:+0200
TZOFFSETTO:+0100
TZNAME:CET
DTSTART:20221030T010000
END:STANDARD
BEGIN:DAYLIGHT
TZOFFSETFROM:+0100
TZOFFSETTO:+0200
TZNAME:CEST
DTSTART:20230326T010000
END:DAYLIGHT
BEGIN:STANDARD
TZOFFSETFROM:+0200
TZOFFSETTO:+0100
TZNAME:CET
DTSTART:20231029T010000
END:STANDARD
BEGIN:DAYLIGHT
TZOFFSETFROM:+0100
TZOFFSETTO:+0200
TZNAME:CEST
DTSTART:20240331T010000
END:DAYLIGHT
BEGIN:STANDARD
TZOFFSETFROM:+0200
TZOFFSETTO:+0100
TZNAME:CET
DTSTART:20241027T010000
END:STANDARD
END:VTIMEZONE
BEGIN:VEVENT
DTSTART;TZID=Europe/Berlin:20230507T130000
DTEND;TZID=Europe/Berlin:20230507T150000
DTSTAMP:20260425T161543
CREATED:20230501T032750Z
LAST-MODIFIED:20230816T083759Z
UID:10000418-1683464400-1683471600@teamnolimits.de
SUMMARY:Vision Day
DESCRIPTION:Vision Day
URL:https://teamnolimits.de/event/vision-day-23/
LOCATION:Nordrhein-Westfalen
CATEGORIES:Vision Day
END:VEVENT
BEGIN:VEVENT
DTSTART;TZID=Europe/Berlin:20230507T130000
DTEND;TZID=Europe/Berlin:20230507T160000
DTSTAMP:20260425T161543
CREATED:20220930T074950Z
LAST-MODIFIED:20230816T083758Z
UID:10000365-1683464400-1683475200@teamnolimits.de
SUMMARY:No Limits Day
DESCRIPTION:
URL:https://teamnolimits.de/event/no-limits-day-30/
LOCATION:Road Stop Mettmann\, Marie-Curie-Str. 8\, Mettmann\, Nordrhein-Westfalen\, 40822
CATEGORIES:No Limits Day
END:VEVENT
BEGIN:VEVENT
DTSTART;TZID=Europe/Berlin:20230511T203000
DTEND;TZID=Europe/Berlin:20230511T213000
DTSTAMP:20260425T161543
CREATED:20230302T174026Z
LAST-MODIFIED:20230816T083758Z
UID:10000412-1683837000-1683840600@teamnolimits.de
SUMMARY:Online-Geschäftspräsentationen
DESCRIPTION:
URL:https://teamnolimits.de/event/online-geschaeftspraesentationen-28/
LOCATION:Zoom Team-Webinar\, online
CATEGORIES:Online-Geschäftspräsentationen
END:VEVENT
BEGIN:VEVENT
DTSTART;TZID=Europe/Berlin:20230520T153000
DTEND;TZID=Europe/Berlin:20230520T173000
DTSTAMP:20260425T161543
CREATED:20220930T072450Z
LAST-MODIFIED:20230816T083758Z
UID:10000254-1684596600-1684603800@teamnolimits.de
SUMMARY:No Limits Day
DESCRIPTION:
URL:https://teamnolimits.de/event/no-limits-day-19/
LOCATION:Konferenzhotel Frankfurt-Rodgau\, Kopernikusstr. 1\, Rodgau\, Hessen\, 63110\, Germany
CATEGORIES:No Limits Day
END:VEVENT
BEGIN:VEVENT
DTSTART;TZID=Europe/Berlin:20230520T190000
DTEND;TZID=Europe/Berlin:20230520T210000
DTSTAMP:20260425T161543
CREATED:20221114T134949Z
LAST-MODIFIED:20230816T083758Z
UID:10000384-1684609200-1684616400@teamnolimits.de
SUMMARY:Successtraining
DESCRIPTION:
URL:https://teamnolimits.de/event/successtraining-11/
LOCATION:Konferenzhotel Frankfurt-Rodgau\, Kopernikusstr. 1\, Rodgau\, Hessen\, 63110\, Germany
CATEGORIES:Successtraining
END:VEVENT
BEGIN:VEVENT
DTSTART;TZID=Europe/Berlin:20230521T190000
DTEND;TZID=Europe/Berlin:20230521T200000
DTSTAMP:20260425T161543
CREATED:20230501T032944Z
LAST-MODIFIED:20230816T083758Z
UID:10000419-1684695600-1684699200@teamnolimits.de
SUMMARY:Vision Day
DESCRIPTION:Vision Day
URL:https://teamnolimits.de/event/vision-day-24/
LOCATION:Nordrhein-Westfalen
CATEGORIES:Vision Day
END:VEVENT
BEGIN:VEVENT
DTSTART;TZID=Europe/Berlin:20230523T193000
DTEND;TZID=Europe/Berlin:20230523T213000
DTSTAMP:20260425T161543
CREATED:20220930T072547Z
LAST-MODIFIED:20230816T083757Z
UID:10000256-1684870200-1684877400@teamnolimits.de
SUMMARY:Business Training
DESCRIPTION:
URL:https://teamnolimits.de/event/startertraining-11/
LOCATION:Zoom Team-Webinar\, online
CATEGORIES:Business Training
END:VEVENT
BEGIN:VEVENT
DTSTART;TZID=Europe/Berlin:20230525T203000
DTEND;TZID=Europe/Berlin:20230525T213000
DTSTAMP:20260425T161543
CREATED:20230302T174435Z
LAST-MODIFIED:20230816T083757Z
UID:10000416-1685046600-1685050200@teamnolimits.de
SUMMARY:Online-Geschäftspräsentationen
DESCRIPTION:
URL:https://teamnolimits.de/event/online-geschaeftspraesentationen-32/
LOCATION:Zoom Team-Webinar\, online
CATEGORIES:Online-Geschäftspräsentationen
END:VEVENT
END:VCALENDAR