BEGIN:VCALENDAR
VERSION:2.0
PRODID:-// - ECPv6.15.20//NONSGML v1.0//EN
CALSCALE:GREGORIAN
METHOD:PUBLISH
X-ORIGINAL-URL:https://teamnolimits.de
X-WR-CALDESC:Veranstaltungen für 
REFRESH-INTERVAL;VALUE=DURATION:PT1H
X-Robots-Tag:noindex
X-PUBLISHED-TTL:PT1H
BEGIN:VTIMEZONE
TZID:Europe/Berlin
BEGIN:DAYLIGHT
TZOFFSETFROM:+0100
TZOFFSETTO:+0200
TZNAME:CEST
DTSTART:20220327T010000
END:DAYLIGHT
BEGIN:STANDARD
TZOFFSETFROM:+0200
TZOFFSETTO:+0100
TZNAME:CET
DTSTART:20221030T010000
END:STANDARD
BEGIN:DAYLIGHT
TZOFFSETFROM:+0100
TZOFFSETTO:+0200
TZNAME:CEST
DTSTART:20230326T010000
END:DAYLIGHT
BEGIN:STANDARD
TZOFFSETFROM:+0200
TZOFFSETTO:+0100
TZNAME:CET
DTSTART:20231029T010000
END:STANDARD
BEGIN:DAYLIGHT
TZOFFSETFROM:+0100
TZOFFSETTO:+0200
TZNAME:CEST
DTSTART:20240331T010000
END:DAYLIGHT
BEGIN:STANDARD
TZOFFSETFROM:+0200
TZOFFSETTO:+0100
TZNAME:CET
DTSTART:20241027T010000
END:STANDARD
END:VTIMEZONE
BEGIN:VEVENT
DTSTART;TZID=Europe/Berlin:20230702T130000
DTEND;TZID=Europe/Berlin:20230702T160000
DTSTAMP:20260425T124044
CREATED:20221007T101745Z
LAST-MODIFIED:20230816T083754Z
UID:10000370-1688302800-1688313600@teamnolimits.de
SUMMARY:No Limits Day
DESCRIPTION:
URL:https://teamnolimits.de/event/no-limits-day-31/
LOCATION:Road Stop Mettmann\, Marie-Curie-Str. 8\, Mettmann\, Nordrhein-Westfalen\, 40822
CATEGORIES:No Limits Day
END:VEVENT
BEGIN:VEVENT
DTSTART;TZID=Europe/Berlin:20230702T190000
DTEND;TZID=Europe/Berlin:20230702T200000
DTSTAMP:20260425T124044
CREATED:20230501T033330Z
LAST-MODIFIED:20230816T083754Z
UID:10000422-1688324400-1688328000@teamnolimits.de
SUMMARY:Vision Day
DESCRIPTION:Vision Day
URL:https://teamnolimits.de/event/vision-day-27/
LOCATION:Nordrhein-Westfalen
CATEGORIES:Vision Day
END:VEVENT
BEGIN:VEVENT
DTSTART;TZID=Europe/Berlin:20230706T203000
DTEND;TZID=Europe/Berlin:20230706T213000
DTSTAMP:20260425T124044
CREATED:20230604T052836Z
LAST-MODIFIED:20230816T083754Z
UID:10000446-1688675400-1688679000@teamnolimits.de
SUMMARY:Business Präsentation
DESCRIPTION:
URL:https://teamnolimits.de/event/business-praesentation-3/
LOCATION:Zoom Team-Webinar\, online
CATEGORIES:Business Präsentation
END:VEVENT
BEGIN:VEVENT
DTSTART;TZID=Europe/Berlin:20230713T203000
DTEND;TZID=Europe/Berlin:20230713T213000
DTSTAMP:20260425T124044
CREATED:20230604T053004Z
LAST-MODIFIED:20230816T083754Z
UID:10000447-1689280200-1689283800@teamnolimits.de
SUMMARY:Business Präsentation
DESCRIPTION:
URL:https://teamnolimits.de/event/business-praesentation-4/
LOCATION:Zoom Team-Webinar\, online
CATEGORIES:Business Präsentation
END:VEVENT
BEGIN:VEVENT
DTSTART;TZID=Europe/Berlin:20230714T080000
DTEND;TZID=Europe/Berlin:20230716T170000
DTSTAMP:20260425T124044
CREATED:20230523T071336Z
LAST-MODIFIED:20230816T083753Z
UID:10000441-1689321600-1689526800@teamnolimits.de
SUMMARY:Summer Camp
DESCRIPTION:
URL:https://teamnolimits.de/event/summer-camp/
LOCATION:Campingpark am Gederner See\, Am Gederner See 19\, Gedern\, Hessen\, 63688
END:VEVENT
BEGIN:VEVENT
DTSTART;TZID=Europe/Berlin:20230716T190000
DTEND;TZID=Europe/Berlin:20230716T203000
DTSTAMP:20260425T124044
CREATED:20230522T173442Z
LAST-MODIFIED:20230816T083753Z
UID:10000425-1689534000-1689539400@teamnolimits.de
SUMMARY:Vision Day
DESCRIPTION:Vision Day
URL:https://teamnolimits.de/event/vision-day-30/
LOCATION:Nordrhein-Westfalen
CATEGORIES:Vision Day
END:VEVENT
BEGIN:VEVENT
DTSTART;TZID=Europe/Berlin:20230720T203000
DTEND;TZID=Europe/Berlin:20230720T213000
DTSTAMP:20260425T124044
CREATED:20230604T053214Z
LAST-MODIFIED:20230816T083753Z
UID:10000448-1689885000-1689888600@teamnolimits.de
SUMMARY:Business Präsentation
DESCRIPTION:
URL:https://teamnolimits.de/event/business-praesentation-5/
LOCATION:Zoom Team-Webinar\, online
CATEGORIES:Business Präsentation
END:VEVENT
BEGIN:VEVENT
DTSTART;TZID=Europe/Berlin:20230722T153000
DTEND;TZID=Europe/Berlin:20230722T173000
DTSTAMP:20260425T124044
CREATED:20220930T073113Z
LAST-MODIFIED:20230816T083753Z
UID:10000353-1690039800-1690047000@teamnolimits.de
SUMMARY:No Limits Day
DESCRIPTION:
URL:https://teamnolimits.de/event/no-limits-day-21/
LOCATION:Konferenzhotel Frankfurt-Rodgau\, Kopernikusstr. 1\, Rodgau\, Hessen\, 63110\, Germany
CATEGORIES:No Limits Day
END:VEVENT
BEGIN:VEVENT
DTSTART;TZID=Europe/Berlin:20230722T190000
DTEND;TZID=Europe/Berlin:20230722T213000
DTSTAMP:20260425T124044
CREATED:20221114T144256Z
LAST-MODIFIED:20230816T083753Z
UID:10000386-1690052400-1690061400@teamnolimits.de
SUMMARY:Successtraining
DESCRIPTION:
URL:https://teamnolimits.de/event/successtraining-13/
LOCATION:Konferenzhotel Frankfurt-Rodgau\, Kopernikusstr. 1\, Rodgau\, Hessen\, 63110\, Germany
CATEGORIES:Successtraining
END:VEVENT
BEGIN:VEVENT
DTSTART;TZID=Europe/Berlin:20230725T193000
DTEND;TZID=Europe/Berlin:20230725T213000
DTSTAMP:20260425T124044
CREATED:20220930T073235Z
LAST-MODIFIED:20230816T083752Z
UID:10000354-1690313400-1690320600@teamnolimits.de
SUMMARY:Business Training
DESCRIPTION:Business Training
URL:https://teamnolimits.de/event/startertraining-13/
LOCATION:Zoom Team-Webinar\, online
CATEGORIES:Business Training
END:VEVENT
BEGIN:VEVENT
DTSTART;TZID=Europe/Berlin:20230727T203000
DTEND;TZID=Europe/Berlin:20230727T213000
DTSTAMP:20260425T124044
CREATED:20230604T053319Z
LAST-MODIFIED:20230816T083752Z
UID:10000449-1690489800-1690493400@teamnolimits.de
SUMMARY:Business Präsentation
DESCRIPTION:
URL:https://teamnolimits.de/event/business-praesentation-6/
LOCATION:Zoom Team-Webinar\, online
CATEGORIES:Business Präsentation
END:VEVENT
BEGIN:VEVENT
DTSTART;TZID=Europe/Berlin:20230730T200000
DTEND;TZID=Europe/Berlin:20230730T210000
DTSTAMP:20260425T124044
CREATED:20230522T173552Z
LAST-MODIFIED:20230816T083752Z
UID:10000426-1690747200-1690750800@teamnolimits.de
SUMMARY:Vision Day
DESCRIPTION:Vision Day
URL:https://teamnolimits.de/event/vision-day-31/
LOCATION:Nordrhein-Westfalen
CATEGORIES:Vision Day
END:VEVENT
END:VCALENDAR