BEGIN:VCALENDAR
VERSION:2.0
PRODID:-// - ECPv6.15.20//NONSGML v1.0//EN
CALSCALE:GREGORIAN
METHOD:PUBLISH
X-ORIGINAL-URL:https://teamnolimits.de
X-WR-CALDESC:Veranstaltungen für 
REFRESH-INTERVAL;VALUE=DURATION:PT1H
X-Robots-Tag:noindex
X-PUBLISHED-TTL:PT1H
BEGIN:VTIMEZONE
TZID:Europe/Berlin
BEGIN:DAYLIGHT
TZOFFSETFROM:+0100
TZOFFSETTO:+0200
TZNAME:CEST
DTSTART:20220327T010000
END:DAYLIGHT
BEGIN:STANDARD
TZOFFSETFROM:+0200
TZOFFSETTO:+0100
TZNAME:CET
DTSTART:20221030T010000
END:STANDARD
BEGIN:DAYLIGHT
TZOFFSETFROM:+0100
TZOFFSETTO:+0200
TZNAME:CEST
DTSTART:20230326T010000
END:DAYLIGHT
BEGIN:STANDARD
TZOFFSETFROM:+0200
TZOFFSETTO:+0100
TZNAME:CET
DTSTART:20231029T010000
END:STANDARD
BEGIN:DAYLIGHT
TZOFFSETFROM:+0100
TZOFFSETTO:+0200
TZNAME:CEST
DTSTART:20240331T010000
END:DAYLIGHT
BEGIN:STANDARD
TZOFFSETFROM:+0200
TZOFFSETTO:+0100
TZNAME:CET
DTSTART:20241027T010000
END:STANDARD
END:VTIMEZONE
BEGIN:VEVENT
DTSTART;TZID=Europe/Berlin:20231005T203000
DTEND;TZID=Europe/Berlin:20231005T213000
DTSTAMP:20260423T195530
CREATED:20230604T054836Z
LAST-MODIFIED:20240323T124310Z
UID:10000459-1696537800-1696541400@teamnolimits.de
SUMMARY:Business Präsentation
DESCRIPTION:
URL:https://teamnolimits.de/event/business-praesentation-16/
LOCATION:Zoom Team-Webinar\, online
CATEGORIES:Business Präsentation
END:VEVENT
BEGIN:VEVENT
DTSTART;TZID=Europe/Berlin:20231008T190000
DTEND;TZID=Europe/Berlin:20231008T200000
DTSTAMP:20260423T195530
CREATED:20230522T174107Z
LAST-MODIFIED:20240323T124310Z
UID:10000431-1696791600-1696795200@teamnolimits.de
SUMMARY:Vision Day
DESCRIPTION:Vision Day
URL:https://teamnolimits.de/event/vision-day-36/
LOCATION:Nordrhein-Westfalen
CATEGORIES:Vision Day
END:VEVENT
BEGIN:VEVENT
DTSTART;TZID=Europe/Berlin:20231012T203000
DTEND;TZID=Europe/Berlin:20231012T213000
DTSTAMP:20260423T195530
CREATED:20230604T054942Z
LAST-MODIFIED:20240323T124309Z
UID:10000460-1697142600-1697146200@teamnolimits.de
SUMMARY:Business Präsentation
DESCRIPTION:
URL:https://teamnolimits.de/event/business-praesentation-17/
LOCATION:Zoom Team-Webinar\, online
CATEGORIES:Business Präsentation
END:VEVENT
BEGIN:VEVENT
DTSTART;TZID=Europe/Berlin:20231019T203000
DTEND;TZID=Europe/Berlin:20231019T213000
DTSTAMP:20260423T195530
CREATED:20230604T055049Z
LAST-MODIFIED:20240323T124309Z
UID:10000461-1697747400-1697751000@teamnolimits.de
SUMMARY:Business Präsentation
DESCRIPTION:
URL:https://teamnolimits.de/event/business-praesentation-18/
LOCATION:Zoom Team-Webinar\, online
CATEGORIES:Business Präsentation
END:VEVENT
BEGIN:VEVENT
DTSTART;TZID=Europe/Berlin:20231021T153000
DTEND;TZID=Europe/Berlin:20231021T173000
DTSTAMP:20260423T195530
CREATED:20220930T073756Z
LAST-MODIFIED:20240323T124309Z
UID:10000359-1697902200-1697909400@teamnolimits.de
SUMMARY:No Limits Day
DESCRIPTION:
URL:https://teamnolimits.de/event/no-limits-day-24/
LOCATION:Konferenzhotel Frankfurt-Rodgau\, Kopernikusstr. 1\, Rodgau\, Hessen\, 63110\, Germany
CATEGORIES:No Limits Day
END:VEVENT
BEGIN:VEVENT
DTSTART;TZID=Europe/Berlin:20231021T190000
DTEND;TZID=Europe/Berlin:20231021T213000
DTSTAMP:20260423T195530
CREATED:20221114T145509Z
LAST-MODIFIED:20240323T124309Z
UID:10000389-1697914800-1697923800@teamnolimits.de
SUMMARY:Successtraining
DESCRIPTION:
URL:https://teamnolimits.de/event/successtraining-16/
LOCATION:Konferenzhotel Frankfurt-Rodgau\, Kopernikusstr. 1\, Rodgau\, Hessen\, 63110\, Germany
CATEGORIES:Successtraining
END:VEVENT
BEGIN:VEVENT
DTSTART;TZID=Europe/Berlin:20231022T100000
DTEND;TZID=Europe/Berlin:20231022T150000
DTSTAMP:20260423T195530
CREATED:20220930T073853Z
LAST-MODIFIED:20240323T124309Z
UID:10000360-1697968800-1697986800@teamnolimits.de
SUMMARY:Produkt Akademie
DESCRIPTION:
URL:https://teamnolimits.de/event/produkt-akademie-5/
LOCATION:Konferenzhotel Frankfurt-Rodgau\, Kopernikusstr. 1\, Rodgau\, Hessen\, 63110\, Germany
CATEGORIES:Produkt Akademie
END:VEVENT
BEGIN:VEVENT
DTSTART;TZID=Europe/Berlin:20231022T190000
DTEND;TZID=Europe/Berlin:20231022T200000
DTSTAMP:20260423T195530
CREATED:20230522T174201Z
LAST-MODIFIED:20240323T124309Z
UID:10000432-1698001200-1698004800@teamnolimits.de
SUMMARY:Vision Day
DESCRIPTION:Vision Day
URL:https://teamnolimits.de/event/vision-day-37/
LOCATION:Nordrhein-Westfalen
CATEGORIES:Vision Day
END:VEVENT
BEGIN:VEVENT
DTSTART;TZID=Europe/Berlin:20231024T193000
DTEND;TZID=Europe/Berlin:20231024T213000
DTSTAMP:20260423T195530
CREATED:20220930T073958Z
LAST-MODIFIED:20240323T124309Z
UID:10000361-1698175800-1698183000@teamnolimits.de
SUMMARY:Business Training
DESCRIPTION:Business Training
URL:https://teamnolimits.de/event/startertraining-16/
LOCATION:Zoom Team-Webinar\, online
CATEGORIES:Business Training
END:VEVENT
BEGIN:VEVENT
DTSTART;TZID=Europe/Berlin:20231026T203000
DTEND;TZID=Europe/Berlin:20231026T213000
DTSTAMP:20260423T195530
CREATED:20230604T055146Z
LAST-MODIFIED:20240323T124309Z
UID:10000462-1698352200-1698355800@teamnolimits.de
SUMMARY:Business Präsentation
DESCRIPTION:
URL:https://teamnolimits.de/event/business-praesentation-19/
LOCATION:Zoom Team-Webinar\, online
CATEGORIES:Business Präsentation
END:VEVENT
BEGIN:VEVENT
DTSTART;TZID=Europe/Berlin:20231029T130000
DTEND;TZID=Europe/Berlin:20231029T160000
DTSTAMP:20260423T195530
CREATED:20220930T075714Z
LAST-MODIFIED:20240323T124309Z
UID:10000368-1698584400-1698595200@teamnolimits.de
SUMMARY:No Limits Day
DESCRIPTION:
URL:https://teamnolimits.de/event/no-limits-day-34/
LOCATION:Road Stop Mettmann\, Marie-Curie-Str. 8\, Mettmann\, Nordrhein-Westfalen\, 40822
CATEGORIES:No Limits Day
END:VEVENT
END:VCALENDAR