BEGIN:VCALENDAR
VERSION:2.0
PRODID:-// - ECPv6.15.20//NONSGML v1.0//EN
CALSCALE:GREGORIAN
METHOD:PUBLISH
X-ORIGINAL-URL:https://teamnolimits.de
X-WR-CALDESC:Veranstaltungen für 
REFRESH-INTERVAL;VALUE=DURATION:PT1H
X-Robots-Tag:noindex
X-PUBLISHED-TTL:PT1H
BEGIN:VTIMEZONE
TZID:Europe/Berlin
BEGIN:DAYLIGHT
TZOFFSETFROM:+0100
TZOFFSETTO:+0200
TZNAME:CEST
DTSTART:20230326T010000
END:DAYLIGHT
BEGIN:STANDARD
TZOFFSETFROM:+0200
TZOFFSETTO:+0100
TZNAME:CET
DTSTART:20231029T010000
END:STANDARD
BEGIN:DAYLIGHT
TZOFFSETFROM:+0100
TZOFFSETTO:+0200
TZNAME:CEST
DTSTART:20240331T010000
END:DAYLIGHT
BEGIN:STANDARD
TZOFFSETFROM:+0200
TZOFFSETTO:+0100
TZNAME:CET
DTSTART:20241027T010000
END:STANDARD
BEGIN:DAYLIGHT
TZOFFSETFROM:+0100
TZOFFSETTO:+0200
TZNAME:CEST
DTSTART:20250330T010000
END:DAYLIGHT
BEGIN:STANDARD
TZOFFSETFROM:+0200
TZOFFSETTO:+0100
TZNAME:CET
DTSTART:20251026T010000
END:STANDARD
END:VTIMEZONE
BEGIN:VEVENT
DTSTART;TZID=Europe/Berlin:20240204T130000
DTEND;TZID=Europe/Berlin:20240204T160000
DTSTAMP:20260423T125303
CREATED:20240111T154125Z
LAST-MODIFIED:20240323T124307Z
UID:10000512-1707051600-1707062400@teamnolimits.de
SUMMARY:No Limits Day Mettmann
DESCRIPTION:No Limits Day
URL:https://teamnolimits.de/event/no-limits-day-mettmann-12/
LOCATION:Road Stop Mettmann\, Marie-Curie-Str. 8\, Mettmann\, Nordrhein-Westfalen\, 40822
CATEGORIES:No Limits Day
END:VEVENT
BEGIN:VEVENT
DTSTART;TZID=Europe/Berlin:20240213T193000
DTEND;TZID=Europe/Berlin:20240213T203000
DTSTAMP:20260423T125303
CREATED:20240131T131630Z
LAST-MODIFIED:20240323T124307Z
UID:10000514-1707852600-1707856200@teamnolimits.de
SUMMARY:Special Zoom
DESCRIPTION:Special Zoom
URL:https://teamnolimits.de/event/special-zoom/
LOCATION:Zoom Team-Webinar\, online
CATEGORIES:Special Zoom
END:VEVENT
BEGIN:VEVENT
DTSTART;TZID=Europe/Berlin:20240217T080000
DTEND;TZID=Europe/Berlin:20240217T210000
DTSTAMP:20260423T125303
CREATED:20231029T061634Z
LAST-MODIFIED:20240323T124306Z
UID:10000475-1708156800-1708203600@teamnolimits.de
SUMMARY:Kick Off Österreich
DESCRIPTION:Ganztägig
URL:https://teamnolimits.de/event/kick-off-oesterreich/
LOCATION:Nordrhein-Westfalen
END:VEVENT
BEGIN:VEVENT
DTSTART;TZID=Europe/Berlin:20240218T080000
DTEND;TZID=Europe/Berlin:20240218T210000
DTSTAMP:20260423T125303
CREATED:20231029T061743Z
LAST-MODIFIED:20240323T124306Z
UID:10000476-1708243200-1708290000@teamnolimits.de
SUMMARY:Kick Off Österreich
DESCRIPTION:Ganztägig
URL:https://teamnolimits.de/event/kick-off-oesterreich-2/
LOCATION:Nordrhein-Westfalen
END:VEVENT
END:VCALENDAR