BEGIN:VCALENDAR
VERSION:2.0
PRODID:-// - ECPv6.15.20//NONSGML v1.0//EN
CALSCALE:GREGORIAN
METHOD:PUBLISH
X-ORIGINAL-URL:https://teamnolimits.de
X-WR-CALDESC:Veranstaltungen für 
REFRESH-INTERVAL;VALUE=DURATION:PT1H
X-Robots-Tag:noindex
X-PUBLISHED-TTL:PT1H
BEGIN:VTIMEZONE
TZID:Europe/Berlin
BEGIN:DAYLIGHT
TZOFFSETFROM:+0100
TZOFFSETTO:+0200
TZNAME:CEST
DTSTART:20230326T010000
END:DAYLIGHT
BEGIN:STANDARD
TZOFFSETFROM:+0200
TZOFFSETTO:+0100
TZNAME:CET
DTSTART:20231029T010000
END:STANDARD
BEGIN:DAYLIGHT
TZOFFSETFROM:+0100
TZOFFSETTO:+0200
TZNAME:CEST
DTSTART:20240331T010000
END:DAYLIGHT
BEGIN:STANDARD
TZOFFSETFROM:+0200
TZOFFSETTO:+0100
TZNAME:CET
DTSTART:20241027T010000
END:STANDARD
BEGIN:DAYLIGHT
TZOFFSETFROM:+0100
TZOFFSETTO:+0200
TZNAME:CEST
DTSTART:20250330T010000
END:DAYLIGHT
BEGIN:STANDARD
TZOFFSETFROM:+0200
TZOFFSETTO:+0100
TZNAME:CET
DTSTART:20251026T010000
END:STANDARD
END:VTIMEZONE
BEGIN:VEVENT
DTSTART;TZID=Europe/Berlin:20240302T153000
DTEND;TZID=Europe/Berlin:20240302T173000
DTSTAMP:20260423T105731
CREATED:20231029T060550Z
LAST-MODIFIED:20240323T124306Z
UID:10000474-1709393400-1709400600@teamnolimits.de
SUMMARY:No Limits Day Rodgau
DESCRIPTION:No Limits Day
URL:https://teamnolimits.de/event/no-limits-day-rodgau-7/
LOCATION:Konferenzhotel Frankfurt-Rodgau\, Kopernikusstr. 1\, Rodgau\, Hessen\, 63110\, Germany
CATEGORIES:No Limits Day
END:VEVENT
BEGIN:VEVENT
DTSTART;TZID=Europe/Berlin:20240310T130000
DTEND;TZID=Europe/Berlin:20240310T160000
DTSTAMP:20260423T105731
CREATED:20231029T062425Z
LAST-MODIFIED:20240323T124306Z
UID:10000477-1710075600-1710086400@teamnolimits.de
SUMMARY:No Limits Day Mettmann
DESCRIPTION:No Limits Day
URL:https://teamnolimits.de/event/no-limits-day-mettmann-3/
LOCATION:Road Stop Mettmann\, Marie-Curie-Str. 8\, Mettmann\, Nordrhein-Westfalen\, 40822
CATEGORIES:No Limits Day
END:VEVENT
BEGIN:VEVENT
DTSTART;TZID=Europe/Berlin:20240312T190000
DTEND;TZID=Europe/Berlin:20240312T200000
DTSTAMP:20260423T105731
CREATED:20240131T131731Z
LAST-MODIFIED:20240323T124306Z
UID:10000515-1710270000-1710273600@teamnolimits.de
SUMMARY:Special Zoom
DESCRIPTION:Special Zoom
URL:https://teamnolimits.de/event/special-zoom-2/
LOCATION:Zoom Team-Webinar\, online
CATEGORIES:Special Zoom
END:VEVENT
BEGIN:VEVENT
DTSTART;TZID=Europe/Berlin:20240323T153000
DTEND;TZID=Europe/Berlin:20240323T173000
DTSTAMP:20260423T105731
CREATED:20231029T062528Z
LAST-MODIFIED:20240323T124306Z
UID:10000478-1711207800-1711215000@teamnolimits.de
SUMMARY:No Limits Day Rodgau
DESCRIPTION:No Limits Day
URL:https://teamnolimits.de/event/no-limits-day-rodgau-8/
LOCATION:Konferenzhotel Frankfurt-Rodgau\, Kopernikusstr. 1\, Rodgau\, Hessen\, 63110\, Germany
CATEGORIES:No Limits Day
END:VEVENT
BEGIN:VEVENT
DTSTART;TZID=Europe/Berlin:20240324T103000
DTEND;TZID=Europe/Berlin:20240324T160000
DTSTAMP:20260423T105731
CREATED:20231029T062630Z
LAST-MODIFIED:20240323T124306Z
UID:10000479-1711276200-1711296000@teamnolimits.de
SUMMARY:Produkt-Akademie
DESCRIPTION:Produkt-Akademie
URL:https://teamnolimits.de/event/produkt-akademie-rodgau/
LOCATION:Konferenzhotel Frankfurt-Rodgau\, Kopernikusstr. 1\, Rodgau\, Hessen\, 63110\, Germany
CATEGORIES:Produkt Akademie
END:VEVENT
END:VCALENDAR