BEGIN:VCALENDAR
VERSION:2.0
PRODID:-// - ECPv6.15.20//NONSGML v1.0//EN
CALSCALE:GREGORIAN
METHOD:PUBLISH
X-ORIGINAL-URL:https://teamnolimits.de
X-WR-CALDESC:Veranstaltungen für 
REFRESH-INTERVAL;VALUE=DURATION:PT1H
X-Robots-Tag:noindex
X-PUBLISHED-TTL:PT1H
BEGIN:VTIMEZONE
TZID:Europe/Berlin
BEGIN:DAYLIGHT
TZOFFSETFROM:+0100
TZOFFSETTO:+0200
TZNAME:CEST
DTSTART:20220327T010000
END:DAYLIGHT
BEGIN:STANDARD
TZOFFSETFROM:+0200
TZOFFSETTO:+0100
TZNAME:CET
DTSTART:20221030T010000
END:STANDARD
BEGIN:DAYLIGHT
TZOFFSETFROM:+0100
TZOFFSETTO:+0200
TZNAME:CEST
DTSTART:20230326T010000
END:DAYLIGHT
BEGIN:STANDARD
TZOFFSETFROM:+0200
TZOFFSETTO:+0100
TZNAME:CET
DTSTART:20231029T010000
END:STANDARD
BEGIN:DAYLIGHT
TZOFFSETFROM:+0100
TZOFFSETTO:+0200
TZNAME:CEST
DTSTART:20240331T010000
END:DAYLIGHT
BEGIN:STANDARD
TZOFFSETFROM:+0200
TZOFFSETTO:+0100
TZNAME:CET
DTSTART:20241027T010000
END:STANDARD
END:VTIMEZONE
BEGIN:VEVENT
DTSTART;TZID=Europe/Berlin:20230608T203000
DTEND;TZID=Europe/Berlin:20230608T213000
DTSTAMP:20260425T175111
CREATED:20230302T174225Z
LAST-MODIFIED:20230816T083757Z
UID:10000414-1686256200-1686259800@teamnolimits.de
SUMMARY:Business Präsentation
DESCRIPTION:
URL:https://teamnolimits.de/event/online-geschaeftspraesentationen-30/
LOCATION:Zoom Team-Webinar\, online
CATEGORIES:Business Präsentation
END:VEVENT
BEGIN:VEVENT
DTSTART;TZID=Europe/Berlin:20230611T190000
DTEND;TZID=Europe/Berlin:20230611T200000
DTSTAMP:20260425T175111
CREATED:20230519T055256Z
LAST-MODIFIED:20230816T083757Z
UID:10000423-1686510000-1686513600@teamnolimits.de
SUMMARY:Vision Day
DESCRIPTION: Vision Day
URL:https://teamnolimits.de/event/vision-day-28/
LOCATION:Nordrhein-Westfalen
CATEGORIES:Vision Day
END:VEVENT
END:VCALENDAR