BEGIN:VCALENDAR
VERSION:2.0
PRODID:-// - ECPv6.15.20//NONSGML v1.0//EN
CALSCALE:GREGORIAN
METHOD:PUBLISH
X-ORIGINAL-URL:https://teamnolimits.de
X-WR-CALDESC:Veranstaltungen für 
REFRESH-INTERVAL;VALUE=DURATION:PT1H
X-Robots-Tag:noindex
X-PUBLISHED-TTL:PT1H
BEGIN:VTIMEZONE
TZID:Europe/Berlin
BEGIN:DAYLIGHT
TZOFFSETFROM:+0100
TZOFFSETTO:+0200
TZNAME:CEST
DTSTART:20220327T010000
END:DAYLIGHT
BEGIN:STANDARD
TZOFFSETFROM:+0200
TZOFFSETTO:+0100
TZNAME:CET
DTSTART:20221030T010000
END:STANDARD
BEGIN:DAYLIGHT
TZOFFSETFROM:+0100
TZOFFSETTO:+0200
TZNAME:CEST
DTSTART:20230326T010000
END:DAYLIGHT
BEGIN:STANDARD
TZOFFSETFROM:+0200
TZOFFSETTO:+0100
TZNAME:CET
DTSTART:20231029T010000
END:STANDARD
BEGIN:DAYLIGHT
TZOFFSETFROM:+0100
TZOFFSETTO:+0200
TZNAME:CEST
DTSTART:20240331T010000
END:DAYLIGHT
BEGIN:STANDARD
TZOFFSETFROM:+0200
TZOFFSETTO:+0100
TZNAME:CET
DTSTART:20241027T010000
END:STANDARD
END:VTIMEZONE
BEGIN:VEVENT
DTSTART;TZID=Europe/Berlin:20230622T203000
DTEND;TZID=Europe/Berlin:20230622T213000
DTSTAMP:20260425T161421
CREATED:20230302T174344Z
LAST-MODIFIED:20230816T083756Z
UID:10000415-1687465800-1687469400@teamnolimits.de
SUMMARY:Business Präsentation
DESCRIPTION:
URL:https://teamnolimits.de/event/online-geschaeftspraesentationen-31/
LOCATION:Zoom Team-Webinar\, online
CATEGORIES:Business Präsentation
END:VEVENT
BEGIN:VEVENT
DTSTART;TZID=Europe/Berlin:20230624T153000
DTEND;TZID=Europe/Berlin:20230624T173000
DTSTAMP:20260425T161421
CREATED:20220930T072745Z
LAST-MODIFIED:20230816T083755Z
UID:10000257-1687620600-1687627800@teamnolimits.de
SUMMARY:No Limits Day
DESCRIPTION:
URL:https://teamnolimits.de/event/no-limits-day-20/
LOCATION:Konferenzhotel Frankfurt-Rodgau\, Kopernikusstr. 1\, Rodgau\, Hessen\, 63110\, Germany
CATEGORIES:No Limits Day
END:VEVENT
BEGIN:VEVENT
DTSTART;TZID=Europe/Berlin:20230624T190000
DTEND;TZID=Europe/Berlin:20230624T213000
DTSTAMP:20260425T161421
CREATED:20221114T135234Z
LAST-MODIFIED:20230816T083755Z
UID:10000385-1687633200-1687642200@teamnolimits.de
SUMMARY:Successtraining
DESCRIPTION:
URL:https://teamnolimits.de/event/successtraining-12/
LOCATION:Konferenzhotel Frankfurt-Rodgau\, Kopernikusstr. 1\, Rodgau\, Hessen\, 63110\, Germany
CATEGORIES:Successtraining
END:VEVENT
BEGIN:VEVENT
DTSTART;TZID=Europe/Berlin:20230625T100000
DTEND;TZID=Europe/Berlin:20230625T150000
DTSTAMP:20260425T161421
CREATED:20220930T072845Z
LAST-MODIFIED:20230816T083755Z
UID:10000259-1687687200-1687705200@teamnolimits.de
SUMMARY:Produkt Akademie
DESCRIPTION:
URL:https://teamnolimits.de/event/produkt-akademie-3/
LOCATION:Konferenzhotel Frankfurt-Rodgau\, Kopernikusstr. 1\, Rodgau\, Hessen\, 63110\, Germany
CATEGORIES:Produkt Akademie
END:VEVENT
END:VCALENDAR