BEGIN:VCALENDAR
VERSION:2.0
PRODID:-// - ECPv6.15.20//NONSGML v1.0//EN
CALSCALE:GREGORIAN
METHOD:PUBLISH
X-ORIGINAL-URL:https://teamnolimits.de
X-WR-CALDESC:Veranstaltungen für 
REFRESH-INTERVAL;VALUE=DURATION:PT1H
X-Robots-Tag:noindex
X-PUBLISHED-TTL:PT1H
BEGIN:VTIMEZONE
TZID:Europe/Berlin
BEGIN:DAYLIGHT
TZOFFSETFROM:+0100
TZOFFSETTO:+0200
TZNAME:CEST
DTSTART:20220327T010000
END:DAYLIGHT
BEGIN:STANDARD
TZOFFSETFROM:+0200
TZOFFSETTO:+0100
TZNAME:CET
DTSTART:20221030T010000
END:STANDARD
BEGIN:DAYLIGHT
TZOFFSETFROM:+0100
TZOFFSETTO:+0200
TZNAME:CEST
DTSTART:20230326T010000
END:DAYLIGHT
BEGIN:STANDARD
TZOFFSETFROM:+0200
TZOFFSETTO:+0100
TZNAME:CET
DTSTART:20231029T010000
END:STANDARD
BEGIN:DAYLIGHT
TZOFFSETFROM:+0100
TZOFFSETTO:+0200
TZNAME:CEST
DTSTART:20240331T010000
END:DAYLIGHT
BEGIN:STANDARD
TZOFFSETFROM:+0200
TZOFFSETTO:+0100
TZNAME:CET
DTSTART:20241027T010000
END:STANDARD
END:VTIMEZONE
BEGIN:VEVENT
DTSTART;TZID=Europe/Berlin:20230817T203000
DTEND;TZID=Europe/Berlin:20230817T213000
DTSTAMP:20260425T161711
CREATED:20230604T053844Z
LAST-MODIFIED:20230816T083751Z
UID:10000452-1692304200-1692307800@teamnolimits.de
SUMMARY:Business Präsentation
DESCRIPTION:
URL:https://teamnolimits.de/event/business-praesentation-9/
LOCATION:Zoom Team-Webinar\, online
CATEGORIES:Business Präsentation
END:VEVENT
BEGIN:VEVENT
DTSTART;TZID=Europe/Berlin:20230819T153000
DTEND;TZID=Europe/Berlin:20230819T193000
DTSTAMP:20260425T161711
CREATED:20220930T073344Z
LAST-MODIFIED:20230816T084910Z
UID:10000355-1692459000-1692473400@teamnolimits.de
SUMMARY:No Limits Day
DESCRIPTION:
URL:https://teamnolimits.de/event/no-limits-day-22/
LOCATION:Konferenzhotel Frankfurt-Rodgau\, Kopernikusstr. 1\, Rodgau\, Hessen\, 63110\, Germany
CATEGORIES:No Limits Day
END:VEVENT
BEGIN:VEVENT
DTSTART;TZID=Europe/Berlin:20230819T190000
DTEND;TZID=Europe/Berlin:20230819T213000
DTSTAMP:20260425T161711
CREATED:20221114T144514Z
LAST-MODIFIED:20230816T083751Z
UID:10000387-1692471600-1692480600@teamnolimits.de
SUMMARY:Successtraining
DESCRIPTION:
URL:https://teamnolimits.de/event/successtraining-14/
LOCATION:Konferenzhotel Frankfurt-Rodgau\, Kopernikusstr. 1\, Rodgau\, Hessen\, 63110\, Germany
CATEGORIES:Successtraining
END:VEVENT
END:VCALENDAR