BEGIN:VCALENDAR
VERSION:2.0
PRODID:-// - ECPv6.15.20//NONSGML v1.0//EN
CALSCALE:GREGORIAN
METHOD:PUBLISH
X-ORIGINAL-URL:https://teamnolimits.de
X-WR-CALDESC:Veranstaltungen für 
REFRESH-INTERVAL;VALUE=DURATION:PT1H
X-Robots-Tag:noindex
X-PUBLISHED-TTL:PT1H
BEGIN:VTIMEZONE
TZID:Europe/Berlin
BEGIN:DAYLIGHT
TZOFFSETFROM:+0100
TZOFFSETTO:+0200
TZNAME:CEST
DTSTART:20220327T010000
END:DAYLIGHT
BEGIN:STANDARD
TZOFFSETFROM:+0200
TZOFFSETTO:+0100
TZNAME:CET
DTSTART:20221030T010000
END:STANDARD
BEGIN:DAYLIGHT
TZOFFSETFROM:+0100
TZOFFSETTO:+0200
TZNAME:CEST
DTSTART:20230326T010000
END:DAYLIGHT
BEGIN:STANDARD
TZOFFSETFROM:+0200
TZOFFSETTO:+0100
TZNAME:CET
DTSTART:20231029T010000
END:STANDARD
BEGIN:DAYLIGHT
TZOFFSETFROM:+0100
TZOFFSETTO:+0200
TZNAME:CEST
DTSTART:20240331T010000
END:DAYLIGHT
BEGIN:STANDARD
TZOFFSETFROM:+0200
TZOFFSETTO:+0100
TZNAME:CET
DTSTART:20241027T010000
END:STANDARD
END:VTIMEZONE
BEGIN:VEVENT
DTSTART;TZID=Europe/Berlin:20230831T203000
DTEND;TZID=Europe/Berlin:20230831T213000
DTSTAMP:20260425T124258
CREATED:20230604T054116Z
LAST-MODIFIED:20230816T083750Z
UID:10000454-1693513800-1693517400@teamnolimits.de
SUMMARY:Business Präsentation
DESCRIPTION:
URL:https://teamnolimits.de/event/business-praesentation-11/
LOCATION:Zoom Team-Webinar\, online
CATEGORIES:Business Präsentation
END:VEVENT
BEGIN:VEVENT
DTSTART;TZID=Europe/Berlin:20230901T170000
DTEND;TZID=Europe/Berlin:20230901T220000
DTSTAMP:20260425T124258
CREATED:20230523T071812Z
LAST-MODIFIED:20240323T124310Z
UID:10000442-1693587600-1693605600@teamnolimits.de
SUMMARY:Team Bankett
DESCRIPTION:4-cc Aktiv BANKETT
URL:https://teamnolimits.de/event/team-bankett/
LOCATION:Nordrhein-Westfalen
END:VEVENT
BEGIN:VEVENT
DTSTART;TZID=Europe/Berlin:20230902T110000
DTEND;TZID=Europe/Berlin:20230902T180000
DTSTAMP:20260425T124258
CREATED:20230523T072033Z
LAST-MODIFIED:20240323T124310Z
UID:10000443-1693652400-1693677600@teamnolimits.de
SUMMARY:Success Day
DESCRIPTION:Success Day in Mainz
URL:https://teamnolimits.de/event/success-day/
LOCATION:Mainz
END:VEVENT
END:VCALENDAR