BEGIN:VCALENDAR
VERSION:2.0
PRODID:-// - ECPv6.15.20//NONSGML v1.0//EN
CALSCALE:GREGORIAN
METHOD:PUBLISH
X-ORIGINAL-URL:https://teamnolimits.de
X-WR-CALDESC:Veranstaltungen für 
REFRESH-INTERVAL;VALUE=DURATION:PT1H
X-Robots-Tag:noindex
X-PUBLISHED-TTL:PT1H
BEGIN:VTIMEZONE
TZID:Europe/Berlin
BEGIN:DAYLIGHT
TZOFFSETFROM:+0100
TZOFFSETTO:+0200
TZNAME:CEST
DTSTART:20220327T010000
END:DAYLIGHT
BEGIN:STANDARD
TZOFFSETFROM:+0200
TZOFFSETTO:+0100
TZNAME:CET
DTSTART:20221030T010000
END:STANDARD
BEGIN:DAYLIGHT
TZOFFSETFROM:+0100
TZOFFSETTO:+0200
TZNAME:CEST
DTSTART:20230326T010000
END:DAYLIGHT
BEGIN:STANDARD
TZOFFSETFROM:+0200
TZOFFSETTO:+0100
TZNAME:CET
DTSTART:20231029T010000
END:STANDARD
BEGIN:DAYLIGHT
TZOFFSETFROM:+0100
TZOFFSETTO:+0200
TZNAME:CEST
DTSTART:20240331T010000
END:DAYLIGHT
BEGIN:STANDARD
TZOFFSETFROM:+0200
TZOFFSETTO:+0100
TZNAME:CET
DTSTART:20241027T010000
END:STANDARD
END:VTIMEZONE
BEGIN:VEVENT
DTSTART;TZID=Europe/Berlin:20231102T203000
DTEND;TZID=Europe/Berlin:20231102T213000
DTSTAMP:20260423T195707
CREATED:20230604T055255Z
LAST-MODIFIED:20240323T124309Z
UID:10000463-1698957000-1698960600@teamnolimits.de
SUMMARY:Business Präsentation
DESCRIPTION:
URL:https://teamnolimits.de/event/business-praesentation-20/
LOCATION:Zoom Team-Webinar\, online
CATEGORIES:Business Präsentation
END:VEVENT
BEGIN:VEVENT
DTSTART;TZID=Europe/Berlin:20231105T190000
DTEND;TZID=Europe/Berlin:20231105T200000
DTSTAMP:20260423T195707
CREATED:20230522T174309Z
LAST-MODIFIED:20240323T124308Z
UID:10000433-1699210800-1699214400@teamnolimits.de
SUMMARY:Vision Day
DESCRIPTION:Vision Day
URL:https://teamnolimits.de/event/vision-day-38/
LOCATION:Nordrhein-Westfalen
CATEGORIES:Vision Day
END:VEVENT
END:VCALENDAR